BEGIN:VCALENDAR
VERSION:2.0
PRODID:-//ChamberMaster//Event Calendar 2.0//EN
METHOD:PUBLISH
X-PUBLISHED-TTL:P3D
REFRESH-INTERVAL:P3D
CALSCALE:GREGORIAN
BEGIN:VEVENT
DTSTART:20131218T134500Z
DTEND:20131218T223000Z
X-MICROSOFT-CDO-ALLDAYEVENT:FALSE
SUMMARY:LMF Business Work/Life Balance
DESCRIPTION:Leadership Menomonee Falls\n\nBusiness- Work/Life Balance
X-ALT-DESC;FMTTYPE=text/html:Leadership Menomonee Falls<br />\nBusiness- Work/Life Balance
LOCATION:
UID:e.596.240
SEQUENCE:3
DTSTAMP:20260422T193410Z
URL:http://business.fallschamber.com/events/details/lmf-business-work-life-balance-12-18-2013-240
END:VEVENT

END:VCALENDAR
