BEGIN:VCALENDAR
VERSION:2.0
PRODID:-//ChamberMaster//Event Calendar 2.0//EN
METHOD:PUBLISH
X-PUBLISHED-TTL:P3D
REFRESH-INTERVAL:P3D
CALSCALE:GREGORIAN
BEGIN:VEVENT
DTSTART:20140413T170000Z
DTEND:20140414T000000Z
X-MICROSOFT-CDO-ALLDAYEVENT:FALSE
SUMMARY:Lions Club Spaghetti Dinner
DESCRIPTION:Spaghetti Dinner
X-ALT-DESC;FMTTYPE=text/html:<strong>Spaghetti Dinner</strong>
LOCATION:Village Bowl
UID:e.596.327
SEQUENCE:3
DTSTAMP:20260422T132933Z
URL:http://business.fallschamber.com/events/details/lions-club-spaghetti-dinner-04-13-2014-327
END:VEVENT

END:VCALENDAR
