BEGIN:VCALENDAR
VERSION:2.0
PRODID:-//ChamberMaster//Event Calendar 2.0//EN
METHOD:PUBLISH
X-PUBLISHED-TTL:P3D
REFRESH-INTERVAL:P3D
CALSCALE:GREGORIAN
BEGIN:VEVENT
DTSTART:20150826T123000Z
DTEND:20150826T140000Z
X-MICROSOFT-CDO-ALLDAYEVENT:FALSE
SUMMARY:Leadership Menomonee Falls - Kick-Off Coffee 8/26/15
DESCRIPTION:Leadership Menomonee Falls\n\nNow in it's 25th Year\n\nKick-Off Coffee
X-ALT-DESC;FMTTYPE=text/html:<span style="color: rgb(0\, 100\, 0)\;">Leadership Menomonee Falls<br />\n<strong>Now in it&#39\;s 25th Year</strong><br />\nKick-Off Coffee</span>
LOCATION:TBD
UID:e.596.468
SEQUENCE:3
DTSTAMP:20260419T133607Z
URL:http://business.fallschamber.com/events/details/leadership-menomonee-falls-kick-off-coffee-8-26-15-08-26-2015-468
END:VEVENT

END:VCALENDAR
