BEGIN:VCALENDAR
VERSION:2.0
PRODID:-//ChamberMaster//Event Calendar 2.0//EN
METHOD:PUBLISH
X-PUBLISHED-TTL:P3D
REFRESH-INTERVAL:P3D
CALSCALE:GREGORIAN
BEGIN:VEVENT
DTSTART:20140827T123000Z
DTEND:20140827T140000Z
X-MICROSOFT-CDO-ALLDAYEVENT:FALSE
SUMMARY:Leadership Menomonee Falls: Kick-Off Coffee
DESCRIPTION:
X-ALT-DESC;FMTTYPE=text/html:
LOCATION:Davians Banquet & Conference Center 16300 W. Silver Spring Drive Menomonee Falls\, WI 53051
UID:e.596.343
SEQUENCE:3
DTSTAMP:20260420T071929Z
URL:http://business.fallschamber.com/events/details/leadership-menomonee-falls-kick-off-coffee-08-27-2014-343
END:VEVENT

END:VCALENDAR
