BEGIN:VCALENDAR
VERSION:2.0
PRODID:-//ChamberMaster//Event Calendar 2.0//EN
METHOD:PUBLISH
X-PUBLISHED-TTL:P3D
REFRESH-INTERVAL:P3D
CALSCALE:GREGORIAN
BEGIN:VEVENT
DTSTART:20130821T123000Z
DTEND:20130821T140000Z
X-MICROSOFT-CDO-ALLDAYEVENT:FALSE
SUMMARY:Leadership Menomonee Falls Kick-Off Coffee
DESCRIPTION:Leadership Menomonee Falls\n\nKick-Off Coffee
X-ALT-DESC;FMTTYPE=text/html:Leadership Menomonee Falls<br />\nKick-Off Coffee
LOCATION:Davians
UID:e.596.235
SEQUENCE:3
DTSTAMP:20260423T010742Z
URL:http://business.fallschamber.com/events/details/leadership-menomonee-falls-kick-off-coffee-08-21-2013-235
END:VEVENT

END:VCALENDAR
