BEGIN:VCALENDAR
VERSION:2.0
PRODID:-//ChamberMaster//Event Calendar 2.0//EN
METHOD:PUBLISH
X-PUBLISHED-TTL:P3D
REFRESH-INTERVAL:P3D
CALSCALE:GREGORIAN
BEGIN:VEVENT
DTSTART:20150506T220000Z
DTEND:20150507T010000Z
X-MICROSOFT-CDO-ALLDAYEVENT:FALSE
SUMMARY:Leadership Menomonee Falls: Commencement 5/6/15
DESCRIPTION:FOLLOW THE LEADERS TO COMMENCEMENT 2015!\n\nPlease attend the commencement of the Leadership Menomonee Falls Class of 2015.  This evening will showcase their achievements over the past nine months.  This is a great opportunity to celebrate the accomplishments of this class with other business leaders from the area.
X-ALT-DESC;FMTTYPE=text/html:<strong><span style="color: rgb(0\, 100\, 0)\;">FOLLOW THE LEADERS TO COMMENCEMENT 2015!</span><br />\nPlease attend the commencement of the Leadership Menomonee Falls Class of 2015.&nbsp\; This evening will showcase their achievements over the past nine months.&nbsp\; This is a great opportunity to celebrate the accomplishments of this class with other business leaders from the area.</strong>
LOCATION:Davians Banquet & Conference Center 16300 W. Silver Spring Drive Menomonee Falls\, WI 53051
UID:e.596.355
SEQUENCE:3
DTSTAMP:20260419T180426Z
URL:http://business.fallschamber.com/events/details/leadership-menomonee-falls-commencement-5-6-15-05-06-2015-355
END:VEVENT

END:VCALENDAR
