BEGIN:VCALENDAR
VERSION:2.0
PRODID:-//ChamberMaster//Event Calendar 2.0//EN
METHOD:PUBLISH
X-PUBLISHED-TTL:P3D
REFRESH-INTERVAL:P3D
CALSCALE:GREGORIAN
BEGIN:VEVENT
DTSTART:20140322T150000Z
DTEND:20140323T020000Z
X-MICROSOFT-CDO-ALLDAYEVENT:FALSE
SUMMARY:Layers of the HOLIDAY LIFESTYLE
DESCRIPTION:Community Social Party:  Featuring the Barbershop Quartet! 6:30 until 8:30pm\n\n       \n\n***DRAWING FOR PRIZES!!  Call to RSVP 262 253 0770
X-ALT-DESC;FMTTYPE=text/html:<span style="font-size: 16px\;"><strong>Community Social Party:&nbsp\; Featuring the&nbsp\;Barbershop Quartet! 6:30 until 8:30pm</strong></span><br />\n&nbsp\;&nbsp\;&nbsp\;&nbsp\;&nbsp\;&nbsp\;&nbsp\;<br />\n<em><span style="font-size: 18px\;">***DRAWING FOR PRIZES!!&nbsp\; Call to RSVP 262 253 0770</span></em>
LOCATION:Village at the Falls W129 N6889 Northfield Dr Menomonee Falls\, WI 53051
UID:e.596.325
SEQUENCE:3
DTSTAMP:20260422T161722Z
URL:http://business.fallschamber.com/events/details/layers-of-the-holiday-lifestyle-03-22-2014-325
END:VEVENT

END:VCALENDAR
