BEGIN:VCALENDAR
VERSION:2.0
PRODID:-//ChamberMaster//Event Calendar 2.0//EN
METHOD:PUBLISH
X-PUBLISHED-TTL:P3D
REFRESH-INTERVAL:P3D
CALSCALE:GREGORIAN
BEGIN:VEVENT
DTSTART:20140321T150000Z
DTEND:20140322T020000Z
X-MICROSOFT-CDO-ALLDAYEVENT:FALSE
SUMMARY:Layers of the HOLIDAY LIFESTYLE
DESCRIPTION:Fitness Day - Exercises throught the DAy\n\n\n\n Spring Fling Dance!!  -  6:30-8:30pm\n\n\n\n Wine and Cheese Social - 4 :00 -5:00pm
X-ALT-DESC;FMTTYPE=text/html:Fitness Day - Exercises throught the DAy<br />\n<br />\n<strong>&nbsp\;Spring Fling Dance!!&nbsp\; -&nbsp\; 6:30-8:30pm<br />\n<br />\n&nbsp\;Wine and Cheese Social - 4 :00 -5:00pm</strong>
LOCATION:Village at the Falls W129 N6889 Northfield Dr Menomonee Falls\, WI 53051
UID:e.596.324
SEQUENCE:3
DTSTAMP:20260422T144312Z
URL:http://business.fallschamber.com/events/details/layers-of-the-holiday-lifestyle-03-21-2014-324
END:VEVENT

END:VCALENDAR
