BEGIN:VCALENDAR
VERSION:2.0
PRODID:-//ChamberMaster//Event Calendar 2.0//EN
METHOD:PUBLISH
X-PUBLISHED-TTL:P3D
REFRESH-INTERVAL:P3D
CALSCALE:GREGORIAN
BEGIN:VEVENT
DTSTART:20140320T150000Z
DTEND:20140320T210000Z
X-MICROSOFT-CDO-ALLDAYEVENT:FALSE
SUMMARY:Layers of the HOLIDAY LIFESTYLE
DESCRIPTION:Painting Class - 10:00 am\n\n\n\nVendor Fair - Great gift ideas! - 2-4
X-ALT-DESC;FMTTYPE=text/html:<br />\nPainting Class - 10:00 am<br />\n<br />\nVendor Fair - Great gift ideas! - 2-4
LOCATION:Village at the Falls W129 N6889 Northfield Dr Menomoneee Falls\, WI 53051
UID:e.596.323
SEQUENCE:3
DTSTAMP:20260422T144413Z
URL:http://business.fallschamber.com/events/details/layers-of-the-holiday-lifestyle-03-20-2014-323
END:VEVENT

END:VCALENDAR
