BEGIN:VCALENDAR
VERSION:2.0
PRODID:-//ChamberMaster//Event Calendar 2.0//EN
METHOD:PUBLISH
X-PUBLISHED-TTL:P3D
REFRESH-INTERVAL:P3D
CALSCALE:GREGORIAN
BEGIN:VEVENT
DTSTART:20140319T170000Z
DTEND:20140319T170000Z
X-MICROSOFT-CDO-ALLDAYEVENT:FALSE
SUMMARY:Layers of the HOLIDAY LIFESTYLE
DESCRIPTION:Are You Smarter than a Fifth Grader\n\n          10:00 am  -  Like on TV!\n\n\n\nSolutions for Low Vision  \n\n      * Muscular Degeneration at 2:00 pm\n\n\n\nOther  topic:  Grief & Loss
X-ALT-DESC;FMTTYPE=text/html:Are You Smarter than a Fifth Grader<br />\n&nbsp\;&nbsp\;&nbsp\;&nbsp\;&nbsp\;&nbsp\;&nbsp\;&nbsp\;&nbsp\; 10:00 am&nbsp\; -&nbsp\; Like on TV!<br />\n<br />\nSolutions for Low Vision&nbsp\;&nbsp\;<br />\n&nbsp\;&nbsp\;&nbsp\;&nbsp\;&nbsp\; * Muscular Degeneration at 2:00 pm<br />\n<br />\nOther &nbsp\;topic:&nbsp\; Grief &amp\; Loss&nbsp\;
LOCATION:Village at the Falls W129 N6889 Northfield Dr Menomonee Falls\, WI 53051
UID:e.596.322
SEQUENCE:3
DTSTAMP:20260422T144419Z
URL:http://business.fallschamber.com/events/details/layers-of-the-holiday-lifestyle-03-19-2014-322
END:VEVENT

END:VCALENDAR
