BEGIN:VCALENDAR
VERSION:2.0
PRODID:-//ChamberMaster//Event Calendar 2.0//EN
METHOD:PUBLISH
X-PUBLISHED-TTL:P3D
REFRESH-INTERVAL:P3D
CALSCALE:GREGORIAN
BEGIN:VEVENT
DTSTART:20140318T150000Z
DTEND:20140318T200000Z
X-MICROSOFT-CDO-ALLDAYEVENT:FALSE
SUMMARY:Layers of the HOLIDAY LIFESTYLE
DESCRIPTION:Parade of Homes - 10 - 11:30 am\n\n\n\n ANTIQUE TRUNK SHOW - 2:00 pm\n\n       Appraiser - $15.00 (1/2 goes to March of Dimes)\n\n\n\nSpace is limited please call to RSVP  262 253 0770
X-ALT-DESC;FMTTYPE=text/html:&nbsp\; Parade of Homes - 10 - 11:30 am<br />\n<br />\n&nbsp\;ANTIQUE TRUNK SHOW - 2:00 pm<br />\n&nbsp\;&nbsp\;&nbsp\;&nbsp\;&nbsp\;&nbsp\; Appraiser - $15.00 (1/2 goes to March of Dimes)<br />\n<br />\nSpace is limited please call to RSVP&nbsp\; 262 253 0770
LOCATION:Village at the Falls W129 N6889 Northfield Dr Menomonee Falls\, WI 53051
UID:e.596.321
SEQUENCE:3
DTSTAMP:20260422T145201Z
URL:http://business.fallschamber.com/events/details/layers-of-the-holiday-lifestyle-03-18-2014-321
END:VEVENT

END:VCALENDAR
