BEGIN:VCALENDAR
VERSION:2.0
PRODID:-//ChamberMaster//Event Calendar 2.0//EN
METHOD:PUBLISH
X-PUBLISHED-TTL:P3D
REFRESH-INTERVAL:P3D
CALSCALE:GREGORIAN
BEGIN:VEVENT
DTSTART:20140316T163000Z
DTEND:20140316T200000Z
X-MICROSOFT-CDO-ALLDAYEVENT:FALSE
SUMMARY:Layers of the HOLIDAY LIFESTYLE
DESCRIPTION:Come get in the spirit of St. Patrick's Day\n\n\n\nBRUNCH  & Irish Step Dancers\n\n\n\nMarch 16th   Starting at Noon!\n\n\n\nSunday Brunch - Begins at 11:30 - 1:00pm\n\n\n\nIrish Step Dancers will be here at 3:00pm\n\n\n\nSeating is Limited - Please RSVP\n\n                  262-253-0700
X-ALT-DESC;FMTTYPE=text/html:<br />\n<strong><span style="color: rgb(0\, 100\, 0)\;"><span style="font-size: 14px\;">Come get in the spirit of St. Patrick&#39\;s Day</span></span><br />\n<br />\n<em>BRUNCH&nbsp\; &amp\; Irish Step Dancers</em></strong><br />\n<br />\n<span style="color: rgb(0\, 128\, 0)\;"><em><strong><span style="font-size: 14px\;">March 16th</span></strong></em></span>&nbsp\;&nbsp\; Starting at Noon!<br />\n<br />\nSunday Brunch - Begins at 11:30 - 1:00pm<br />\n<br />\n<strong>Irish Step Dancers </strong>will be here at 3:00pm<br />\n<br />\nSeating is Limited - Please RSVP<br />\n&nbsp\;&nbsp\;&nbsp\;&nbsp\;&nbsp\;&nbsp\;&nbsp\;&nbsp\;&nbsp\;&nbsp\;&nbsp\;&nbsp\;&nbsp\;&nbsp\;&nbsp\;&nbsp\;&nbsp\; 262-253-0700<br />\n<br />\n&nbsp\;
LOCATION:Village at the Falls W129 N6889 Northfield dr Menomonee Fall\, WI 53051
UID:e.596.319
SEQUENCE:3
DTSTAMP:20260422T161819Z
URL:http://business.fallschamber.com/events/details/layers-of-the-holiday-lifestyle-03-16-2014-319
END:VEVENT

END:VCALENDAR
