BEGIN:VCALENDAR
VERSION:2.0
PRODID:-//ChamberMaster//Event Calendar 2.0//EN
METHOD:PUBLISH
X-PUBLISHED-TTL:P3D
REFRESH-INTERVAL:P3D
CALSCALE:GREGORIAN
BEGIN:VEVENT
DTSTART:20141018T130000Z
DTEND:20141018T170000Z
X-MICROSOFT-CDO-ALLDAYEVENT:FALSE
SUMMARY:Landscape Plastics Recycling
DESCRIPTION:Plastics used in the nursery industry can be recycled if they're coded 2\, 5 or 6.\nJohnson's Nursery\, Inc. encourages landscape contractors and garden and landscape enthusiasts to save plastic plant containers\, growing pots and plant trays. Join us in Menomonee Falls for the recycling of landscape and garden plastics during these dates and times. Johnson's Nursery has teamed up with Waukesha County Recycling for a twice-a-year\, area-wide\, recycling initiative to give the general public sanctuary for the piling up landscape and garden wastes. Honor our earth by bringing your used containers to us in Menomonee Falls.\n\n\n\nPreparation\n\n\n	Separate according to plastic type (#2\, #5\, #6) reglardless of size\, style or color.\n	Remove all loose dirt and contaminants\n	Remove all metal wire from hanging planters\n	Nest all pots\, cell packs\, and trays of the same size and type tightly together (also sorted by plastics type)\n	If you take your items to Johnson's Nursery there will be a separate recycling bin for #2\, #5\, and #6 items.\n\nFor More Information Visit www.johnsonsnursery.com
X-ALT-DESC;FMTTYPE=text/html:<h2 style="text-align: left\;">Plastics used in the nursery industry can be recycled if they&#39\;re coded 2\, 5 or 6.</h2>\nJohnson&#39\;s Nursery\, Inc.&nbsp\;encourages landscape contractors and&nbsp\;garden and landscape enthusiasts&nbsp\;to save plastic plant containers\, growing pots and plant trays. Join us in Menomonee Falls for the&nbsp\;recycling of&nbsp\;landscape and garden plastics during these dates and times. Johnson&#39\;s Nursery has teamed up with Waukesha County Recycling for a twice-a-year\, area-wide\, recycling initiative to give the general public sanctuary for the piling up landscape and garden wastes. Honor our earth by bringing your used containers to us in Menomonee Falls.\n\n<h2 style="text-align: left\;"><br />\nPreparation</h2>\n\n<ul>\n	<li style="text-align: left\;">Separate according to plastic type (#2\, #5\, #6) reglardless of size\, style or color.</li>\n	<li style="text-align: left\;">Remove all loose dirt and contaminants</li>\n	<li style="text-align: left\;">Remove all metal wire from hanging planters</li>\n	<li style="text-align: left\;">Nest all pots\, cell packs\, and trays of the same size and type tightly together (also sorted by plastics type)</li>\n	<li>If you take your items to Johnson&#39\;s Nursery there will be a separate recycling bin for #2\, #5\, and #6 items.</li>\n</ul>\nFor More Information Visit <a href="http://www.johnsonsnursery.com">www.johnsonsnursery.com</a>
LOCATION:Johnson's Nursery\, Inc. in Menomonee Falls.
UID:e.596.385
SEQUENCE:3
DTSTAMP:20260420T041014Z
URL:http://business.fallschamber.com/events/details/landscape-plastics-recycling-10-18-2014-385
END:VEVENT

END:VCALENDAR
