BEGIN:VCALENDAR
VERSION:2.0
PRODID:-//ChamberMaster//Event Calendar 2.0//EN
METHOD:PUBLISH
X-PUBLISHED-TTL:P3D
REFRESH-INTERVAL:P3D
CALSCALE:GREGORIAN
BEGIN:VEVENT
DTSTART:20130816T163000Z
DTEND:20130816T200000Z
X-MICROSOFT-CDO-ALLDAYEVENT:FALSE
SUMMARY:Landmark Credit Union Annual FREE Brat Fry
DESCRIPTION:Annual FREE Brat Fry at the Germantown branch location!!
X-ALT-DESC;FMTTYPE=text/html:<strong><u><span style="font-size:16.0pt\;">Annual FREE Brat Fry at the Germantown branch location!!</span></u></strong><br />\n<br />\n
LOCATION:Where: Landmark Credit Union @ N96W17480 County Line Rd.\, Germantown\, WI 53022
UID:e.596.265
SEQUENCE:3
DTSTAMP:20260423T011105Z
URL:http://business.fallschamber.com/events/details/landmark-credit-union-annual-free-brat-fry-08-16-2013-265
END:VEVENT

END:VCALENDAR
