BEGIN:VCALENDAR
VERSION:2.0
PRODID:-//ChamberMaster//Event Calendar 2.0//EN
METHOD:PUBLISH
X-PUBLISHED-TTL:P3D
REFRESH-INTERVAL:P3D
CALSCALE:GREGORIAN
BEGIN:VEVENT
DTSTART:20130704T000000Z
DTEND:20130704T030000Z
X-MICROSOFT-CDO-ALLDAYEVENT:FALSE
SUMMARY:July 3rd Parade & Fireworks
DESCRIPTION:Parade Route: Starts at  Appleton  Ave. and Elm Lane.... Proceeds down Appleton Ave...Ends at Menomonee Falls High School
X-ALT-DESC;FMTTYPE=text/html:Parade Route: Starts at &nbsp\;Appleton &nbsp\;Ave. and Elm Lane.... Proceeds down Appleton Ave...Ends at Menomonee Falls High School
LOCATION:
UID:e.596.234
SEQUENCE:3
DTSTAMP:20260423T023535Z
URL:http://business.fallschamber.com/events/details/july-3rd-parade-fireworks-07-03-2013-234
END:VEVENT

END:VCALENDAR
