BEGIN:VCALENDAR
VERSION:2.0
PRODID:-//ChamberMaster//Event Calendar 2.0//EN
METHOD:PUBLISH
X-PUBLISHED-TTL:P3D
REFRESH-INTERVAL:P3D
CALSCALE:GREGORIAN
BEGIN:VEVENT
DTSTART:20130911T190000Z
DTEND:20130911T210000Z
X-MICROSOFT-CDO-ALLDAYEVENT:FALSE
SUMMARY:Ice Cream Social
DESCRIPTION:HomeInstead will be coming in to give a talk to seniors on "Senior Scamming". Following that will be an ice cream social and candy give away!
X-ALT-DESC;FMTTYPE=text/html:HomeInstead will be coming in to give a talk to seniors on &quot\;Senior Scamming&quot\;. Following that will be an ice cream social and candy give away! 
LOCATION:Village at the Falls
UID:e.596.276
SEQUENCE:3
DTSTAMP:20260422T234313Z
URL:http://business.fallschamber.com/events/details/ice-cream-social-09-11-2013-276
END:VEVENT

END:VCALENDAR
