BEGIN:VCALENDAR
VERSION:2.0
PRODID:-//ChamberMaster//Event Calendar 2.0//EN
METHOD:PUBLISH
X-PUBLISHED-TTL:P3D
REFRESH-INTERVAL:P3D
CALSCALE:GREGORIAN
BEGIN:VEVENT
DTSTART:20141218T214500Z
DTEND:20141219T000000Z
X-MICROSOFT-CDO-ALLDAYEVENT:FALSE
SUMMARY:Holiday Social/Open House @ Menomonee Place!
DESCRIPTION:Please join us at Menomonee Place on December 18th for a festive buffet and holiday refreshments! Laughs\, Christmas caroling\, and giving back to the community will all be a part of this afternoon. If you are able\, please bring along a canned food item to donate to our local Meals on Wheels to help those in need during these cold winter months.\n\n\n\nDon't forget to RSVP @ 262-255-4441 by December 8th.\n\n\n\nWe all look forward to seeing you here to celebrate our shining stars!
X-ALT-DESC;FMTTYPE=text/html:Please join us at Menomonee Place on December 18th for a festive buffet and holiday refreshments! Laughs\, Christmas caroling\, and giving back to the community will all be a part of this afternoon. If you are able\, please bring along a canned food item to donate to our local Meals on Wheels to help those in need during these cold winter months.<br />\n<br />\nDon&#39\;t forget to RSVP @ 262-255-4441 by December 8th.<br />\n<br />\nWe all look forward to seeing you here to celebrate our shining stars!<br />\n&nbsp\;
LOCATION:Menomonee Place N84 W17147 Menomonee Avenue in Menomonee Falls
UID:e.596.400
SEQUENCE:3
DTSTAMP:20260420T011853Z
URL:http://business.fallschamber.com/events/details/holiday-social-open-house-menomonee-place-12-18-2014-400
END:VEVENT

END:VCALENDAR
