BEGIN:VCALENDAR
VERSION:2.0
PRODID:-//ChamberMaster//Event Calendar 2.0//EN
METHOD:PUBLISH
X-PUBLISHED-TTL:P3D
REFRESH-INTERVAL:P3D
CALSCALE:GREGORIAN
BEGIN:VEVENT
DTSTART:20141206T193000Z
DTEND:20141206T213000Z
X-MICROSOFT-CDO-ALLDAYEVENT:FALSE
SUMMARY:Holiday Open House and Renovation Celebration
DESCRIPTION:Join us for our Holiday Open House that showcases The Arboretum's extensive new renovations.\n\n*    Live entertainment by Carolyn Wehner\n\n*    Delicious goodies baked in our own kitchen\n\n*    Register for a door prize drawing\n\n*    Tours of The Arboretum will be available\n\nThe Arboretum is a community dedicated to helping older adults stay healthy\, active and engaged.  It's more than a place to live--it's how we live that makes the difference!\n\n\n\nIf you can't join us for this special holiday event please contact us to schedule a personal tour.
X-ALT-DESC;FMTTYPE=text/html:Join us for our Holiday Open House that showcases The Arboretum&#39\;s extensive new renovations.<br />\n*&nbsp\;&nbsp\;&nbsp\;&nbsp\;Live entertainment by Carolyn Wehner<br />\n*&nbsp\;&nbsp\;&nbsp\;&nbsp\;Delicious goodies baked in our own kitchen<br />\n*&nbsp\;&nbsp\;&nbsp\;&nbsp\;Register for a door prize drawing<br />\n*&nbsp\;&nbsp\;&nbsp\;&nbsp\;Tours of The Arboretum will be available<br />\nThe Arboretum is a community dedicated to helping older adults stay healthy\, active and engaged.&nbsp\; It&#39\;s more than a place to live--it&#39\;s how we live that makes the difference!<br />\n<br />\nIf you can&#39\;t join us for this special holiday event please contact us to schedule a personal tour.
LOCATION:The Arboretum W180N7890 Town Hall Road Menomonee Falls
UID:e.596.399
SEQUENCE:3
DTSTAMP:20260420T023035Z
URL:http://business.fallschamber.com/events/details/holiday-open-house-and-renovation-celebration-12-06-2014-399
END:VEVENT

END:VCALENDAR
