BEGIN:VCALENDAR
VERSION:2.0
PRODID:-//ChamberMaster//Event Calendar 2.0//EN
METHOD:PUBLISH
X-PUBLISHED-TTL:P3D
REFRESH-INTERVAL:P3D
CALSCALE:GREGORIAN
BEGIN:VEVENT
DTSTART:20140915T140000Z
DTEND:20140915T140000Z
X-MICROSOFT-CDO-ALLDAYEVENT:FALSE
SUMMARY:Hobby Lobby Grand Opening
DESCRIPTION:National Craft & Home Decor Retailer Hobby Lobby  \n\nCelebrates Grand Opening of its Menomonee Falls\, WI Store\n\n \n\nOKLAHOMA CITY\, OK   Hobby Lobby Stores\, a privately held national retail chain of craft & home decor stores\, opens in Menomonee Falls\, WI\, with a ribbon cutting ceremony and official grand opening celebration on Monday\, September 15\, at 9:00 a.m. The Menomonee Falls store is Hobby Lobby's 15th location in Wisconsin. Herb Matyas is the store manager of the 60\,944 square-foot retail facility located at County Line Road & Appleton Avenue in Crossroads Shopping Center.\n\n \n\nThe store's grand opening and ribbon cutting ceremony is open to the public. Local dignitaries\, ambassadors from the Menomonee Falls Chamber of Commerce and other business leaders will attend the celebration.\n\n \n\n"We feel blessed for the fantastic opportunity to be a part of this community. Our goal is for customers to experience the exceptional service\, selection and value Hobby Lobby offers as we continue to expand nationwide\," stated John Schumacher\, Assistant Vice President of Advertising.\n\n \n\nHobby Lobby Stores\, Inc.\, headquartered in Oklahoma City\, OK\, began as Greco\, a miniature picture frames company in 1970. When David Green moved his business from the family's garage to a 300 square foot retail space in 1972\, Hobby Lobby was founded. Today\, Hobby Lobby has nearly 600 stores across the nation that average 55\,000 square feet in size. This major Oklahoma City-based private corporation offers more than 70\,000 crafting and home decor products in its stores. Departments include floral\, fabric\, needle art\, custom framing\, baskets\, home accents\, wearable art\, arts and crafts\, jewelry making\, scrapbooking and paper crafting supplies. Store hours are Monday through Saturday from 9 a.m. to 8 p.m. All Hobby Lobby stores are closed on Sunday.\n\n \n\nFor more information about Hobby Lobby\, our weekly specials\, coupon offers\, store locations and online shopping\, visit our website at www.hobbylobby.com\, or follow us on Facebook at www.facebook.com/hobbylobby.
X-ALT-DESC;FMTTYPE=text/html:<br />\n<br />\n&nbsp\;<br />\n<strong><span style="font-size: 16pt\;"><span style="font-family: arial\,sans-serif\;">National Craft&nbsp\;&amp\; Home Decor Retailer Hobby Lobby&nbsp\; </span></span></strong><br />\n<strong><span style="font-size: 16pt\;"><span style="font-family: arial\,sans-serif\;">Celebrates Grand Opening of its Menomonee Falls\, WI Store</span></span></strong><br />\n&nbsp\;<br />\n<span style="font-size: medium\;"><span style="font-family: times new roman\;">OKLAHOMA CITY\, OK &shy\; Hobby Lobby Stores\, a privately held national retail chain of craft &amp\; home decor stores\, opens in Menomonee Falls\, WI\, with a ribbon cutting ceremony and official grand opening celebration on&nbsp\;<strong><span style="color: rgb(86\, 0\, 87)\;"><span style="font-size: medium\;">Monday\, September 15\, at 9:00 a.m</span></span></strong>. The Menomonee Falls store is Hobby Lobby&rsquo\;s 15th location in Wisconsin. Herb Matyas is the store manager of the 60\,944 square-foot retail facility located at County Line Road &amp\; Appleton Avenue in Crossroads Shopping Center.</span></span><br />\n&nbsp\;<br />\n<span style="font-size: medium\;"><span style="font-family: times new roman\;">The store&rsquo\;s grand opening and ribbon cutting ceremony is open to the public. Local dignitaries\, ambassadors from the Menomonee Falls Chamber of Commerce and other business leaders will attend the celebration.</span></span><br />\n&nbsp\;<br />\n<span style="font-family: times new roman\,serif\;"><span style="font-size: medium\;">&ldquo\;We feel blessed for the fantastic opportunity to be a part of this community. Our goal is for customers to experience the exceptional service\, selection and value Hobby Lobby offers as we continue to expand nationwide\,&rdquo\;</span></span><span style="font-family: times new roman\,serif\;"><span style="font-size: medium\;"> stated John Schumacher\, Assistant Vice President of Advertising.</span></span><br />\n&nbsp\;<br />\n<span style="font-size: medium\;"><span style="font-family: times new roman\;">Hobby Lobby Stores\, Inc.\, headquartered in Oklahoma City\, OK\, began as Greco\, a miniature picture frames company in 1970. When David Green moved his business from the family&rsquo\;s garage to a 300 square foot retail space in 1972\, Hobby Lobby was founded. Today\, Hobby Lobby has&nbsp\;<strong><span style="color: rgb(84\, 0\, 85)\;"><span style="font-size: medium\;">nearly 600 </span></span></strong>stores across the nation that average 55\,000 square feet in size. This major Oklahoma City-based private corporation offers more than 70\,000 crafting and home decor products in its stores. Departments include floral\, fabric\, needle art\, custom framing\, baskets\, home accents\, wearable art\, arts and crafts\, jewelry making\, scrapbooking and paper crafting supplies. Store hours are Monday through Saturday from 9 a.m. to 8 p.m. All Hobby Lobby stores are closed on Sunday.</span></span><br />\n&nbsp\;<br />\n<span style="font-size: medium\;"><span style="font-family: times new roman\;">For more information about Hobby Lobby\, our weekly specials\, coupon offers\, store locations and online shopping\, visit our website at&nbsp\;</span></span><a href="http://www.hobbylobby.com/"><span style="color: blue\;"><span style="font-size: medium\;"><span style="font-family: times new roman\;">www.hobbylobby.com</span></span></span></a><span style="font-size: medium\;"><span style="font-family: times new roman\;">\, or follow us on Facebook at&nbsp\;</span></span><a href="http://www.facebook.com/hobbylobby"><span style="color: blue\;"><span style="font-size: medium\;"><span style="font-family: times new roman\;">www.facebook.com/hobbylobby</span></span></span></a><span style="font-size: medium\;"><span style="font-family: times new roman\;">.</span></span><br />\n&nbsp\;
LOCATION:Hobby Lobby Crossroads Shopping Center Menomonee Falls\, WI
UID:e.596.372
SEQUENCE:3
DTSTAMP:20260420T054900Z
URL:http://business.fallschamber.com/events/details/hobby-lobby-grand-opening-09-15-2014-372
END:VEVENT

END:VCALENDAR
