BEGIN:VCALENDAR
VERSION:2.0
PRODID:-//ChamberMaster//Event Calendar 2.0//EN
METHOD:PUBLISH
X-PUBLISHED-TTL:P3D
REFRESH-INTERVAL:P3D
CALSCALE:GREGORIAN
BEGIN:VEVENT
DTSTART;VALUE=DATE:20140904
DTEND;VALUE=DATE:20140905
TRANSP:TRANSPARENT
X-MICROSOFT-CDO-ALLDAYEVENT:TRUE
SUMMARY:FREE Nutrition Class at Anytime Fitness!
DESCRIPTION:FREE Nutrition Class!\n\nNutrition Basics!  Learn about the latest News in Nutrition!!!\n\n\n\nThursday\,September 4th at 5:30pm\n\n\n\nGuest Speaker:  Katie Ahern from Karen's Health & Energy\n\n\n\nNon-Members & Members Welcome!\n\n\n\nCall 262-781-3220 to register
X-ALT-DESC;FMTTYPE=text/html:FREE Nutrition Class!<br />\nNutrition Basics!&nbsp\; Learn about the latest News in Nutrition!!!<br />\n<br />\nThursday\,September 4th at 5:30pm<br />\n<br />\nGuest Speaker:&nbsp\; Katie Ahern from Karen&#39\;s Health &amp\; Energy<br />\n<br />\nNon-Members &amp\; Members Welcome!<br />\n<br />\nCall 262-781-3220 to register<br />\n<br />\n&nbsp\;
LOCATION:Anytime Fitness Menomonee Falls\, N56W14108 Silver Spring Drive\, Menomonee Falls
UID:e.596.371
SEQUENCE:3
DTSTAMP:20260420T055221Z
URL:http://business.fallschamber.com/events/details/free-nutrition-class-at-anytime-fitness-09-04-2014-371
END:VEVENT

END:VCALENDAR
