BEGIN:VCALENDAR
VERSION:2.0
PRODID:-//ChamberMaster//Event Calendar 2.0//EN
METHOD:PUBLISH
X-PUBLISHED-TTL:P3D
REFRESH-INTERVAL:P3D
CALSCALE:GREGORIAN
BEGIN:VEVENT
DTSTART:20130910T193000Z
DTEND:20130910T203000Z
X-MICROSOFT-CDO-ALLDAYEVENT:FALSE
SUMMARY:FREE MAGIC SHOW!
DESCRIPTION:Magic Show starring Dave Seebach!
X-ALT-DESC;FMTTYPE=text/html:Magic Show starring Dave Seebach!
LOCATION:Village at the Falls
UID:e.596.275
SEQUENCE:3
DTSTAMP:20260423T010634Z
URL:http://business.fallschamber.com/events/details/free-magic-show-09-10-2013-275
END:VEVENT

END:VCALENDAR
