BEGIN:VCALENDAR
VERSION:2.0
PRODID:-//ChamberMaster//Event Calendar 2.0//EN
METHOD:PUBLISH
X-PUBLISHED-TTL:P3D
REFRESH-INTERVAL:P3D
CALSCALE:GREGORIAN
BEGIN:VEVENT
DTSTART:20130630T000000Z
DTEND:20130630T020000Z
X-MICROSOFT-CDO-ALLDAYEVENT:FALSE
SUMMARY:Fred Astaire Grand Opening
DESCRIPTION:Fred Astaire Grand Opening\n\n\n\nPerformances\, food and refreshments\, and silent auction\n\n\n\nSpecial Guest - Anna Trebunskaya from DANCING WITH THE STARS\n\n\n\nfunds raised donated to Children's Hospital of Wisconsin
X-ALT-DESC;FMTTYPE=text/html:Fred Astaire Grand Opening<br />\n<br />\nPerformances\, food and refreshments\, and silent auction<br />\n<br />\nSpecial Guest - Anna Trebunskaya from DANCING WITH THE STARS<br />\n<br />\nfunds raised donated to Children&#39\;s Hospital of Wisconsin
LOCATION:N87W17317 Main Street Menomonee Falls\, WI 53051 262-251-2000
UID:e.596.227
SEQUENCE:3
DTSTAMP:20260423T053642Z
URL:http://business.fallschamber.com/events/details/fred-astaire-grand-opening-06-29-2013-227
END:VEVENT

END:VCALENDAR
