BEGIN:VCALENDAR
VERSION:2.0
PRODID:-//ChamberMaster//Event Calendar 2.0//EN
METHOD:PUBLISH
X-PUBLISHED-TTL:P3D
REFRESH-INTERVAL:P3D
CALSCALE:GREGORIAN
BEGIN:VEVENT
DTSTART:20130726T160000Z
DTEND:20130726T190000Z
X-MICROSOFT-CDO-ALLDAYEVENT:FALSE
SUMMARY:First Bank Financial Centre Customer Appreciation Day
DESCRIPTION:FBFC is celebrating you\, our customer! Join us on July 26th from 11   2\, at N56 W14044 Silver Spring Dr. in Menomonee Falls (corner of Silver Spring and Lilly Rd.). We'll have carnival games\, cotton candy\, and lunch on the grill! The best part? It's all FREE! For more information\, call (262) 252-1302.
X-ALT-DESC;FMTTYPE=text/html:FBFC is celebrating you\, our customer! Join us on July 26th from 11 &ndash\; 2\, at N56 W14044 Silver Spring Dr. in Menomonee Falls (corner of Silver Spring and Lilly Rd.). We&#39\;ll have carnival games\, cotton candy\, and lunch on the grill! The best part? It&#39\;s all FREE! For more information\, call (262) 252-1302.
LOCATION:N56 W14044 Silver Spring Dr. in Menomonee Falls
UID:e.596.254
SEQUENCE:3
DTSTAMP:20260423T024022Z
URL:http://business.fallschamber.com/events/details/first-bank-financial-centre-customer-appreciation-day-07-26-2013-254
END:VEVENT

END:VCALENDAR
