BEGIN:VCALENDAR
VERSION:2.0
PRODID:-//ChamberMaster//Event Calendar 2.0//EN
METHOD:PUBLISH
X-PUBLISHED-TTL:P3D
REFRESH-INTERVAL:P3D
CALSCALE:GREGORIAN
BEGIN:VEVENT
DTSTART;VALUE=DATE:20131028
DTEND;VALUE=DATE:20131201
TRANSP:TRANSPARENT
X-MICROSOFT-CDO-ALLDAYEVENT:TRUE
SUMMARY:Feeding our Community
DESCRIPTION:Northbrook Insurance Associates\, Inc. is paying it forward this fall. We are collecting food items and/or monetary donations for the Slinger and Monomonee Falls Food Pantries. We are collecting now through Nov 30th. Donations can be made at either our Falls office or our Slinger office during office hours\, 8am-5pm. We are raising awareness about hunger and trying to make an effort to give back in our communitie.   See our website for more details and for a list of suggested items!   (http://www.northbrook-ins.com/2013/10/16/pay-it-forward/)
X-ALT-DESC;FMTTYPE=text/html:<p>\n	Northbrook Insurance Associates\, Inc. is paying it forward this fall. We are collecting food items and/or monetary donations for the Slinger and Monomonee Falls Food Pantries. We are collecting now through Nov 30th. Donations can be made at either our Falls office or our Slinger office during office hours\, 8am-5pm. We are raising awareness about hunger and trying to make an effort to give back in our communitie.&nbsp\;&nbsp\; See our website for more details and for a list of suggested items!&nbsp\;&nbsp\; (<a href="http://www.northbrook-ins.com/2013/10/16/pay-it-forward/">http://www.northbrook-ins.com/2013/10/16/pay-it-forward/</a>)</p>\n
LOCATION:Menomonee Falls office N48 14610 Hampton Rd
UID:e.596.284
SEQUENCE:3
DTSTAMP:20260422T220943Z
URL:http://business.fallschamber.com/events/details/feeding-our-community-10-28-2013-284
END:VEVENT

END:VCALENDAR
