BEGIN:VCALENDAR
VERSION:2.0
PRODID:-//ChamberMaster//Event Calendar 2.0//EN
METHOD:PUBLISH
X-PUBLISHED-TTL:P3D
REFRESH-INTERVAL:P3D
CALSCALE:GREGORIAN
BEGIN:VEVENT
DTSTART:20140817T170000Z
DTEND:20140817T230000Z
X-MICROSOFT-CDO-ALLDAYEVENT:FALSE
SUMMARY:Falls/Sussex Youth Leadership: Retreat
DESCRIPTION:
X-ALT-DESC;FMTTYPE=text/html:
LOCATION:Camp Minikani 875 Amy Belle Lake Rd Hubertus\, WI 53033
UID:e.596.357
SEQUENCE:3
DTSTAMP:20260420T072538Z
URL:http://business.fallschamber.com/events/details/falls-sussex-youth-leadership-retreat-08-17-2014-357
END:VEVENT

END:VCALENDAR
