BEGIN:VCALENDAR
VERSION:2.0
PRODID:-//ChamberMaster//Event Calendar 2.0//EN
METHOD:PUBLISH
X-PUBLISHED-TTL:P3D
REFRESH-INTERVAL:P3D
CALSCALE:GREGORIAN
BEGIN:VEVENT
DTSTART:20150806T233000Z
DTEND:20150807T003000Z
X-MICROSOFT-CDO-ALLDAYEVENT:FALSE
SUMMARY:Falls/Sussex Youth Leadership: Orientation 8-6-2015
DESCRIPTION:FALLS SUSSEX YOUTH LEADERSHIP\n\n2015-2016 ORIENTATION
X-ALT-DESC;FMTTYPE=text/html:<p><strong><span style="font-size: 16px\;"><span style="color: rgb(0\, 0\, 255)\;">FALLS SUSSEX YOUTH LEADERSHIP<br />\n2015-2016 ORIENTATION</span></span></strong></p>\n
LOCATION:Fine Arts Center Hamilton High School W220 N6151 Town Line Road Sussex\, WI 53089
UID:e.596.486
SEQUENCE:3
DTSTAMP:20260419T134042Z
URL:http://business.fallschamber.com/events/details/falls-sussex-youth-leadership-orientation-8-6-2015-08-06-2015-486
END:VEVENT

END:VCALENDAR
