BEGIN:VCALENDAR
VERSION:2.0
PRODID:-//ChamberMaster//Event Calendar 2.0//EN
METHOD:PUBLISH
X-PUBLISHED-TTL:P3D
REFRESH-INTERVAL:P3D
CALSCALE:GREGORIAN
BEGIN:VEVENT
DTSTART:20140807T233000Z
DTEND:20140808T003000Z
X-MICROSOFT-CDO-ALLDAYEVENT:FALSE
SUMMARY:Falls/Sussex Youth Leadership: Orientation
DESCRIPTION:
X-ALT-DESC;FMTTYPE=text/html:
LOCATION:Fine Arts Centre Hamilton High School W220 N6151 Town Line Road Sussex\, WI 53089
UID:e.596.356
SEQUENCE:3
DTSTAMP:20260420T072538Z
URL:http://business.fallschamber.com/events/details/falls-sussex-youth-leadership-orientation-08-07-2014-356
END:VEVENT

END:VCALENDAR
