BEGIN:VCALENDAR
VERSION:2.0
PRODID:-//ChamberMaster//Event Calendar 2.0//EN
METHOD:PUBLISH
X-PUBLISHED-TTL:P3D
REFRESH-INTERVAL:P3D
CALSCALE:GREGORIAN
BEGIN:VEVENT
DTSTART:20141016T130000Z
DTEND:20141016T191500Z
X-MICROSOFT-CDO-ALLDAYEVENT:FALSE
SUMMARY:Falls/Sussex Youth Leadership: Government Day
DESCRIPTION:
X-ALT-DESC;FMTTYPE=text/html:
LOCATION:Menomonee Falls Village Hall W156 N8480 Pilgrim Road Menomonee Falls\, WI 53051-3140
UID:e.596.359
SEQUENCE:3
DTSTAMP:20260420T060354Z
URL:http://business.fallschamber.com/events/details/falls-sussex-youth-leadership-government-day-10-16-2014-359
END:VEVENT

END:VCALENDAR
