BEGIN:VCALENDAR
VERSION:2.0
PRODID:-//ChamberMaster//Event Calendar 2.0//EN
METHOD:PUBLISH
X-PUBLISHED-TTL:P3D
REFRESH-INTERVAL:P3D
CALSCALE:GREGORIAN
BEGIN:VEVENT
DTSTART:20140917T130000Z
DTEND:20140917T191500Z
X-MICROSOFT-CDO-ALLDAYEVENT:FALSE
SUMMARY:Falls/Sussex Youth Leadership: Business Day 9/17/2015
DESCRIPTION:
X-ALT-DESC;FMTTYPE=text/html:
LOCATION:QuadGraphics N61W23044 Harry's Way Sussex\, WI 53089
UID:e.596.358
SEQUENCE:3
DTSTAMP:20260420T054428Z
URL:http://business.fallschamber.com/events/details/falls-sussex-youth-leadership-business-day-9-17-2015-09-17-2014-358
END:VEVENT

END:VCALENDAR
