BEGIN:VCALENDAR
VERSION:2.0
PRODID:-//ChamberMaster//Event Calendar 2.0//EN
METHOD:PUBLISH
X-PUBLISHED-TTL:P3D
REFRESH-INTERVAL:P3D
CALSCALE:GREGORIAN
BEGIN:VEVENT
DTSTART:20140826T230000Z
DTEND:20140827T010000Z
X-MICROSOFT-CDO-ALLDAYEVENT:FALSE
SUMMARY:Event at Silverado Oak Village
DESCRIPTION:TUNES ON TUESDAY!\, A unique variety of classic oldies - FREE CONCERT!\n\nLet's groove to the music of the "Remember When Duo".  Enjoy culinary treats and light refreshments and tour our community to see what sets Silverado memory care apart.  Call Christine Denton to RSVP @ (262) 532-0800 or email cdenton@silveradocare.com.
X-ALT-DESC;FMTTYPE=text/html:<u><strong>TUNES ON TUESDAY!\, A unique variety of classic oldies </strong></u>- <strong><em>FREE CONCERT!</em></strong><br />\nLet&#39\;s groove to the music of the &quot\;Remember When Duo&quot\;.&nbsp\; Enjoy culinary treats and light refreshments and tour our community to see what sets Silverado memory care apart.&nbsp\; Call Christine Denton to RSVP @ (262) 532-0800 or email <a href="mailto:cdenton@silveradocare.com">cdenton@silveradocare.com</a>.&nbsp\;<br />\n&nbsp\;
LOCATION:Event will be held at Silverado Oak Village W128 N6900 Northfield Dr. Menomonee Falls\, WI 53051
UID:e.596.364
SEQUENCE:3
DTSTAMP:20260420T072117Z
URL:http://business.fallschamber.com/events/details/event-at-silverado-oak-village-08-26-2014-364
END:VEVENT

END:VCALENDAR
