BEGIN:VCALENDAR
VERSION:2.0
PRODID:-//ChamberMaster//Event Calendar 2.0//EN
METHOD:PUBLISH
X-PUBLISHED-TTL:P3D
REFRESH-INTERVAL:P3D
CALSCALE:GREGORIAN
BEGIN:VEVENT
DTSTART:20140820T153000Z
DTEND:20140820T163000Z
X-MICROSOFT-CDO-ALLDAYEVENT:FALSE
SUMMARY:Event at Silverado Oak Village
DESCRIPTION:Memory & Aging:  What's Normal\, What's Not\n\nJoin Kelley Best\, MSW\, Director of Resident and Family Services\, Silverado Oak Village Memory Care Community for an insightful presentation on the differences between normal age-related memory loss & Alzheimer's symptoms.  Please RSVP to Lori Oertel at 262-255-8469 (There is no cost to attend this event\, but registration is required.)  License #14660
X-ALT-DESC;FMTTYPE=text/html:Memory &amp\; Aging:&nbsp\; What&#39\;s Normal\, What&#39\;s Not<br />\nJoin Kelley Best\, MSW\, Director of Resident and Family Services\, Silverado Oak Village Memory Care Community for an insightful presentation on the differences between normal age-related memory loss &amp\; Alzheimer&#39\;s symptoms.&nbsp\; Please RSVP to Lori Oertel at 262-255-8469 (There is no cost to attend this event\, but registration is required.)&nbsp\; License #14660
LOCATION:Event will be held at: CE & Rec Senior Center Menomonee Falls W152 N8645 Margaret Rd Menomonee Falls\, WI 53051
UID:e.596.365
SEQUENCE:3
DTSTAMP:20260420T072048Z
URL:http://business.fallschamber.com/events/details/event-at-silverado-oak-village-08-20-2014-365
END:VEVENT

END:VCALENDAR
