BEGIN:VCALENDAR
VERSION:2.0
PRODID:-//ChamberMaster//Event Calendar 2.0//EN
METHOD:PUBLISH
X-PUBLISHED-TTL:P3D
REFRESH-INTERVAL:P3D
CALSCALE:GREGORIAN
BEGIN:VEVENT
DTSTART:20141030T210000Z
DTEND:20141031T000000Z
X-MICROSOFT-CDO-ALLDAYEVENT:FALSE
SUMMARY:Downtown Trick or Treat
DESCRIPTION:Downtown Village Centre area merchant Trick or Treat followed by The Spooky Walk thru Lime Kiln Park
X-ALT-DESC;FMTTYPE=text/html:Downtown Village Centre area merchant Trick or Treat followed by The Spooky Walk thru Lime Kiln Park
LOCATION:Downtown Village Centre area
UID:e.596.395
SEQUENCE:3
DTSTAMP:20260420T041201Z
URL:http://business.fallschamber.com/events/details/downtown-trick-or-treat-10-30-2014-395
END:VEVENT

END:VCALENDAR
