BEGIN:VCALENDAR
VERSION:2.0
PRODID:-//ChamberMaster//Event Calendar 2.0//EN
METHOD:PUBLISH
X-PUBLISHED-TTL:P3D
REFRESH-INTERVAL:P3D
CALSCALE:GREGORIAN
BEGIN:VEVENT
DTSTART;VALUE=DATE:20130907
DTEND;VALUE=DATE:20130908
TRANSP:TRANSPARENT
X-MICROSOFT-CDO-ALLDAYEVENT:TRUE
SUMMARY:Don Zimmermann Alzheimer's Fundraiser & Golf Tournament
DESCRIPTION:Don Zimmermann Alzheimer's Fundraiser & Golf Tournament
X-ALT-DESC;FMTTYPE=text/html:Don Zimmermann Alzheimer&#39\;s Fundraiser &amp\; Golf Tournament
LOCATION:Kettle Hills Golf Course
UID:e.596.228
SEQUENCE:3
DTSTAMP:20260422T234427Z
URL:http://business.fallschamber.com/events/details/don-zimmermann-alzheimer-s-fundraiser-golf-tournament-09-07-2013-228
END:VEVENT

END:VCALENDAR
