BEGIN:VCALENDAR
VERSION:2.0
PRODID:-//ChamberMaster//Event Calendar 2.0//EN
METHOD:PUBLISH
X-PUBLISHED-TTL:P3D
REFRESH-INTERVAL:P3D
CALSCALE:GREGORIAN
BEGIN:VEVENT
DTSTART:20130920T183000Z
DTEND:20130920T220000Z
X-MICROSOFT-CDO-ALLDAYEVENT:FALSE
SUMMARY:Doering Leasing Open House
DESCRIPTION:Open House - Doering Leasing\n\n\n\nRefreshments\, brats and burgers\n\n\n\nDrawings
X-ALT-DESC;FMTTYPE=text/html:<span style="font-size: 16px\;"><span style="color: rgb(0\, 0\, 255)\;">Open House - Doering Leasing</span></span><br />\n<br />\nRefreshments\, brats and burgers<br />\n<br />\nDrawings
LOCATION:5713 North 118th Court Milwaukee\, WI 53225
UID:e.596.273
SEQUENCE:3
DTSTAMP:20260423T010758Z
URL:http://business.fallschamber.com/events/details/doering-leasing-open-house-09-20-2013-273
END:VEVENT

END:VCALENDAR
