BEGIN:VCALENDAR
VERSION:2.0
PRODID:-//ChamberMaster//Event Calendar 2.0//EN
METHOD:PUBLISH
X-PUBLISHED-TTL:P3D
REFRESH-INTERVAL:P3D
CALSCALE:GREGORIAN
BEGIN:VEVENT
DTSTART:20130630T000000Z
DTEND:20130630T020000Z
X-MICROSOFT-CDO-ALLDAYEVENT:FALSE
SUMMARY:Dancing with the Stars Professional in Menomonee Falls
DESCRIPTION:ABC's DANCING WITH THE STARS CELEBRITY TEACHING IN THE MENOMONEE FALLS FRED ASTAIRE DANCE STUDIO TO SUPPORT CHILDREN'S HOSPITAL OF WISCONSIN FUNDRAISER\n\n\n\nSaturday\, June 29th\, 2013\, the Fred Astaire Dance Studio of Menomonee Falls\, located at N87 W17317 Main St\, will have ABC's Dancing with the Stars Professional and United States Professional Latin Finalist Anna Trebunskaya in the studio.  Anna is scheduled to coach some of the students and Professionals on the finer points of dancing as they get ready for their Dance-A-Thon Competition at the Olympia Resort in Oconomowoc in August.  "Anna makes all our students feel like they are the stars\," says Tim Brooks\, owner of the studio.\n\n\n\nThe evening is the Grand Opening Celebration of the studio and Anna will be teaching a group lesson that is open to the public. In addition there will be professional demonstrations\, photo opportunities and a silent auction to help raise funds for the Children's Hospital of Wisconsin.\n\nSome of the Anna's accomplishments include:\n\nTwo-time Dancing with the Stars Runner up\n\nUS Rising Star Latin Professional Champion\n\nUK Rising Star Latin Finalist\n\nInternational Grand Ball Latin Champion\n\nUS pen Professional Latin Finalist\n\n11 Seasons as Professional on Dancing with the Stars\n\n\n\nFor more information please call (262) 251-2000 or visit www.fadsmenomoneefalls.com
X-ALT-DESC;FMTTYPE=text/html:ABC&#39\;s DANCING WITH THE STARS CELEBRITY TEACHING IN THE MENOMONEE FALLS FRED ASTAIRE DANCE STUDIO TO SUPPORT CHILDREN&#39\;S HOSPITAL OF WISCONSIN FUNDRAISER<br />\n<br />\nSaturday\, June 29th\, 2013\, the Fred Astaire Dance Studio of Menomonee Falls\, located at N87 W17317 Main St\, will have ABC&rsquo\;s Dancing with the Stars Professional and United States Professional Latin Finalist Anna Trebunskaya in the studio.&nbsp\; Anna is scheduled to coach some of the students and Professionals on the finer points of dancing as they get ready for their Dance-A-Thon Competition at the Olympia Resort in Oconomowoc in August.&nbsp\; &ldquo\;Anna makes all our students feel like they are the stars\,&rdquo\; says Tim Brooks\, owner of the studio.<br />\n<br />\nThe evening is the Grand Opening Celebration of the studio and Anna will be teaching a group lesson that is open to the public. In addition there will be professional demonstrations\, photo opportunities and a silent auction to help raise funds for the Children&#39\;s Hospital of Wisconsin.<br />\nSome of the Anna&rsquo\;s accomplishments include:<br />\nTwo-time Dancing with the Stars Runner up<br />\nUS Rising Star Latin Professional Champion<br />\nUK Rising Star Latin Finalist<br />\nInternational Grand Ball Latin Champion<br />\nUS pen Professional Latin Finalist<br />\n11 Seasons as Professional on Dancing with the Stars<br />\n<br />\nFor more information please call (262) 251-2000 or visit www.fadsmenomoneefalls.com
LOCATION:Fred Astaire Dance Studio\, N87 W17317 Main St\, Menomonee Falls
UID:e.596.230
SEQUENCE:3
DTSTAMP:20260423T042617Z
URL:http://business.fallschamber.com/events/details/dancing-with-the-stars-professional-in-menomonee-falls-06-29-2013-230
END:VEVENT

END:VCALENDAR
