BEGIN:VCALENDAR
VERSION:2.0
PRODID:-//ChamberMaster//Event Calendar 2.0//EN
METHOD:PUBLISH
X-PUBLISHED-TTL:P3D
REFRESH-INTERVAL:P3D
CALSCALE:GREGORIAN
BEGIN:VEVENT
DTSTART:20141202T000000Z
DTEND:20141217T033000Z
X-MICROSOFT-CDO-ALLDAYEVENT:FALSE
SUMMARY:Dale Carnegie's: The Sales Success Course®
DESCRIPTION:Create explosive sales growth with the techniques you'll learn from the dynamite combination of Jeffrey Gitomer and Dale Carnegie Training. Two of the greatest names in selling have combined to create Sales Success. This interactive sales program is delivered by certified Dale Carnegie Trainers.\n\n\n\nThis never-before-seen combination will give you the attitude\, confidence and systems you need to become the award winner you know you can be. As Jeffrey says "People don't like to be sold\, but they love to BUY!" Let Jeffrey Gitomer and Dale Carnegie show you how to tap into the desire to buy in a way you never could before\n\n \n\n  \n\n"People Don't Like to be Sold\, But they Love to Buy." - Jeffrey Gitomer
X-ALT-DESC;FMTTYPE=text/html:<span style="color: rgb(102\, 102\, 102)\; line-height: 18px\; font-family: Verdana\, Arial\, Helvetica\, sans-serif\;">Create explosive sales growth with the techniques you&#39\;ll learn from the dynamite combination of Jeffrey Gitomer and Dale Carnegie Training. Two of the greatest names in selling have combined to create&nbsp\;</span><em style="color: rgb(102\, 102\, 102)\; line-height: 18px\; font-family: Verdana\, Arial\, Helvetica\, sans-serif\;">Sales Success</em><span style="color: rgb(102\, 102\, 102)\; line-height: 18px\; font-family: Verdana\, Arial\, Helvetica\, sans-serif\;">.&nbsp\;</span><em style="color: rgb(102\, 102\, 102)\; line-height: 18px\; font-family: Verdana\, Arial\, Helvetica\, sans-serif\;">This interactive sales program is delivered by certified Dale Carnegie Trainers.</em><br />\n<br />\n<span style="color: rgb(102\, 102\, 102)\; line-height: 18px\; font-family: Verdana\, Arial\, Helvetica\, sans-serif\;">This never-before-seen combination will give you the attitude\, confidence and systems you need to become the award winner you know you can be. As Jeffrey says &quot\;People don&#39\;t like to be sold\, but they love to BUY!&quot\; Let Jeffrey Gitomer and Dale Carnegie show you how to tap into the desire to buy in a way you never could before</span>\n\n<div style="color: rgb(102\, 102\, 102)\; line-height: 18px\; font-family: Verdana\, Arial\, Helvetica\, sans-serif\;">&nbsp\;</div>\n\n<div style="color: rgb(102\, 102\, 102)\; line-height: 18px\; font-family: Verdana\, Arial\, Helvetica\, sans-serif\;">&nbsp\;&nbsp\;</div>\n\n<div style="color: rgb(102\, 102\, 102)\; line-height: 18px\; font-family: Verdana\, Arial\, Helvetica\, sans-serif\;">&quot\;People Don&#39\;t Like to be Sold\, But they Love to Buy.&quot\; - Jeffrey Gitomer</div>\n
LOCATION:Summit Place 6737 W. Washington St. Suite 3105 Milwaukee/West Allis\, Wisconsin 53214 414-771-3200
UID:e.596.382
SEQUENCE:3
DTSTAMP:20260420T011847Z
URL:http://business.fallschamber.com/events/details/dale-carnegie-s-the-sales-success-course-12-01-2014-382
END:VEVENT

END:VCALENDAR
