BEGIN:VCALENDAR
VERSION:2.0
PRODID:-//ChamberMaster//Event Calendar 2.0//EN
METHOD:PUBLISH
X-PUBLISHED-TTL:P3D
REFRESH-INTERVAL:P3D
CALSCALE:GREGORIAN
BEGIN:VEVENT
DTSTART:20141009T130000Z
DTEND:20141010T220000Z
X-MICROSOFT-CDO-ALLDAYEVENT:FALSE
SUMMARY:Dale Carnegie's: High Impact Presentations
DESCRIPTION:Whether you are persuading colleagues\, selling a client or energizing a team\, the power of your presentation makes the difference between success and failure.\n\n \n\nThe experience in this presentations skills training seminar is as close as you can get to having a personal\, public speaking training coach. You present at least seven times over the course of two days. Your presentations are videotaped and evaluated. And you get expert one-on-one coaching at the end of each presentation.\n\n \n\nJoin Dale Carnegie Training for this interactive presentation skills training seminar today!
X-ALT-DESC;FMTTYPE=text/html:<div style="color: rgb(102\, 102\, 102)\; line-height: 18px\; font-family: Verdana\, Arial\, Helvetica\, sans-serif\;">Whether you are persuading colleagues\, selling a client or energizing a team\, the power of your presentation makes the difference between success and failure.</div>\n\n<div style="color: rgb(102\, 102\, 102)\; line-height: 18px\; font-family: Verdana\, Arial\, Helvetica\, sans-serif\;">&nbsp\;</div>\n\n<div style="color: rgb(102\, 102\, 102)\; line-height: 18px\; font-family: Verdana\, Arial\, Helvetica\, sans-serif\;">The experience in this presentations skills training seminar is as close as you can get to having a personal\, public speaking training coach. You present at least seven times over the course of two days. Your presentations are videotaped and evaluated. And you get expert one-on-one coaching at the end of each presentation.</div>\n\n<div style="color: rgb(102\, 102\, 102)\; line-height: 18px\; font-family: Verdana\, Arial\, Helvetica\, sans-serif\;">&nbsp\;</div>\n\n<div style="color: rgb(102\, 102\, 102)\; line-height: 18px\; font-family: Verdana\, Arial\, Helvetica\, sans-serif\;">Join Dale Carnegie Training for this interactive presentation skills training seminar today!</div>\n
LOCATION:Summit Place 6737 W. Washington St. Suite 3105 Milwaukee/West Allis\, Wisconsin 53214
UID:e.596.381
SEQUENCE:3
DTSTAMP:20260420T054712Z
URL:http://business.fallschamber.com/events/details/dale-carnegie-s-high-impact-presentations-10-09-2014-381
END:VEVENT

END:VCALENDAR
