BEGIN:VCALENDAR
VERSION:2.0
PRODID:-//ChamberMaster//Event Calendar 2.0//EN
METHOD:PUBLISH
X-PUBLISHED-TTL:P3D
REFRESH-INTERVAL:P3D
CALSCALE:GREGORIAN
BEGIN:VEVENT
DTSTART:20141029T230000Z
DTEND:20141218T033000Z
X-MICROSOFT-CDO-ALLDAYEVENT:FALSE
SUMMARY:Dale Carnegie: Effective Communications & Human Relations/Skills for Success
DESCRIPTION:Look around at successful business people. You'll find that they are confident in their work and enthusiastic about getting things done\, they are inspiring\, and they empower others around them to succeed - they are engaged in all aspects of their work and life.\n\n\nThe world famous Dale Carnegie Course is the only organizational communication training program that is proven to make you more effective by boosting your engagement levels.\n\n \n\nThis effective communication course will help you master the organizational communication skills demanded in today's tough business environment. You'll learn to strengthen interpersonal relationships\, manage stress and handle fast-changing workplace conditions. You'll develop more effective communication skills and be better equipped to perform as a persuasive communicator\, problem-solver and focused leader. And you'll develop a take-charge attitude initiated with confidence and enthusiasm.\n\n \n\nMSW ASR Research found the Dale Carnegie Course Graduates are much more likely to be engaged than the general business population.
X-ALT-DESC;FMTTYPE=text/html:<div style="color: rgb(102\, 102\, 102)\; line-height: 18px\; font-family: Verdana\, Arial\, Helvetica\, sans-serif\;">\n<p style="margin: 0px 0px 1em\;">&nbsp\;Look around at successful business people. You&#39\;ll find that they are confident in their work and enthusiastic about getting things done\, they are inspiring\, and they empower others around them to succeed - they are engaged in all aspects of their work and life.</p>\n</div>\n\n<div style="color: rgb(102\, 102\, 102)\; line-height: 18px\; font-family: Verdana\, Arial\, Helvetica\, sans-serif\;">The world famous Dale Carnegie Course is the only organizational communication training program that is proven to make you more effective by boosting your engagement levels.<br />\n&nbsp\;</div>\n\n<div style="color: rgb(102\, 102\, 102)\; line-height: 18px\; font-family: Verdana\, Arial\, Helvetica\, sans-serif\;">This effective communication course will help you master the organizational communication skills demanded in today&#39\;s tough business environment. You&#39\;ll learn to strengthen interpersonal relationships\, manage stress and handle fast-changing workplace conditions. You&#39\;ll develop more effective communication skills and be better equipped to perform as a persuasive communicator\, problem-solver and focused leader. And you&#39\;ll develop a take-charge attitude initiated with confidence and enthusiasm.</div>\n\n<div style="color: rgb(102\, 102\, 102)\; line-height: 18px\; font-family: Verdana\, Arial\, Helvetica\, sans-serif\;">&nbsp\;</div>\n\n<div style="color: rgb(102\, 102\, 102)\; line-height: 18px\; font-family: Verdana\, Arial\, Helvetica\, sans-serif\;">MSW ASR&nbsp\;Research found the Dale Carnegie Course Graduates are much more likely to be engaged than the general business population.</div>\n
LOCATION:Summit Place 6737 W. Washington St. Suite 3105 Milwaukee/West Allis\, Wisconsin 53214 414-771-3200
UID:e.596.383
SEQUENCE:3
DTSTAMP:20260420T023205Z
URL:http://business.fallschamber.com/events/details/dale-carnegie-effective-communications-human-relations-skills-for-success-10-29-2014-383
END:VEVENT

END:VCALENDAR
