BEGIN:VCALENDAR
VERSION:2.0
PRODID:-//ChamberMaster//Event Calendar 2.0//EN
METHOD:PUBLISH
X-PUBLISHED-TTL:P3D
REFRESH-INTERVAL:P3D
CALSCALE:GREGORIAN
BEGIN:VEVENT
DTSTART:20141016T123000Z
DTEND:20141016T150000Z
X-MICROSOFT-CDO-ALLDAYEVENT:FALSE
SUMMARY:Dale Carnegie: Continuous Improvement Breakfast Series
DESCRIPTION:This module looks at the relationship between trust\, credibility\, and respect and provides principles and tools for restoring broken trust and building a trust-driven work environment. Join today!
X-ALT-DESC;FMTTYPE=text/html:<div style="color: rgb(102\, 102\, 102)\; line-height: 18px\; font-family: Verdana\, Arial\, Helvetica\, sans-serif\;">This module looks at the relationship between trust\, credibility\, and respect and provides principles and tools for restoring broken trust and building a trust-driven work environment. Join today!</div>\n
LOCATION:Dale Carnegie\, 6737 W. Washington St\, Suite 3105\, West Allis\, WI 53214
UID:e.596.384
SEQUENCE:3
DTSTAMP:20260420T041534Z
URL:http://business.fallschamber.com/events/details/dale-carnegie-continuous-improvement-breakfast-series-10-16-2014-384
END:VEVENT

END:VCALENDAR
