BEGIN:VCALENDAR
VERSION:2.0
PRODID:-//ChamberMaster//Event Calendar 2.0//EN
METHOD:PUBLISH
X-PUBLISHED-TTL:P3D
REFRESH-INTERVAL:P3D
CALSCALE:GREGORIAN
BEGIN:VEVENT
DTSTART:20130912T190000Z
DTEND:20130912T210000Z
X-MICROSOFT-CDO-ALLDAYEVENT:FALSE
SUMMARY:CRAFT FAIR!
DESCRIPTION:Come and enjoy some crafts! Learn how to do watercolor painting\, floral arrangements\, knit/crochet\, and more!
X-ALT-DESC;FMTTYPE=text/html:Come and enjoy some crafts! Learn how to do watercolor painting\, floral arrangements\, knit/crochet\, and more!
LOCATION:Village at the Falls
UID:e.596.277
SEQUENCE:3
DTSTAMP:20260422T234038Z
URL:http://business.fallschamber.com/events/details/craft-fair-09-12-2013-277
END:VEVENT

END:VCALENDAR
