BEGIN:VCALENDAR
VERSION:2.0
PRODID:-//ChamberMaster//Event Calendar 2.0//EN
METHOD:PUBLISH
X-PUBLISHED-TTL:P3D
REFRESH-INTERVAL:P3D
CALSCALE:GREGORIAN
BEGIN:VEVENT
DTSTART:20141029T220000Z
DTEND:20141029T233000Z
X-MICROSOFT-CDO-ALLDAYEVENT:FALSE
SUMMARY:Conversations Between Generations
DESCRIPTION:Please join us at Menomonee Place (formerly Tamarack Place) to listen and interact with Julie Northern\, Licensed Social Worker from Compassionate Care Hospice\, to learn how to start the discussion about Senior Living with those you love and care for. Find out which options are best suited for your loved one.This is a FREE presentation and snack and refreshments will be provided. Bring along a friend or family!
X-ALT-DESC;FMTTYPE=text/html:<p>Please join us at Menomonee Place (formerly Tamarack Place) to listen and interact with Julie Northern\, Licensed Social Worker from Compassionate Care Hospice\, to&nbsp\;learn how to start the discussion about Senior Living with those you love and care for. Find out which options are best suited for your loved one.This is a&nbsp\;FREE presentation and snack and refreshments will be provided. Bring along a friend or family!</p>\n
LOCATION:Menomonee Place N84 W17147 Menomonee Avenue
UID:e.596.377
SEQUENCE:3
DTSTAMP:20260420T040011Z
URL:http://business.fallschamber.com/events/details/conversations-between-generations-10-29-2014-377
END:VEVENT

END:VCALENDAR
