BEGIN:VCALENDAR
VERSION:2.0
PRODID:-//ChamberMaster//Event Calendar 2.0//EN
METHOD:PUBLISH
X-PUBLISHED-TTL:P3D
REFRESH-INTERVAL:P3D
CALSCALE:GREGORIAN
BEGIN:VEVENT
DTSTART:20141106T160000Z
DTEND:20141106T180000Z
X-MICROSOFT-CDO-ALLDAYEVENT:FALSE
SUMMARY:Continuous Improvement Initiative Info. Meeting 11/6/2014
DESCRIPTION:TRAINING INFORMATIONAL PREVIEW/OVERVIEW SESSIONS: If you are in a leadership position with a Menomonee Falls-based organization\, we would like to formally invite you (or anyone others in leadership roles in your organization) to attend one of three upcoming 2-hour Training Informational Previews/Overview sessions\, where:\n\n\n	Our training program trainers will be present to describe their respective programs in 10-to-15 minute increments: you will be able to learn much more about the specific content of the programs that will be delivered.\n	You will be able to make informed choices in being able to identify from your organization\, who might be best employees to attend the respective training sessions.\n	There will be plenty of time for Q&A with the trainers as well.\n\nThe 2-hour Informational Preview/Overview sessions are being offered at the following date & times:\n\n\n	Thursday\, November 6th: 10 am   Noon\n\n      OR\n\n\n	Thursday November 6th: 2 pm - 4 pm\n\nLOCATION for BOTH Time Slots: Menomonee Falls Public Library\, W156 N8436 Pilgrim Road Menomonee Falls\, WI 53051\n\n\n\n\n\nAttendance at these events is free of charge\, however\, we do need to please have your advance RSVP. Please RSVP your attendance\, providing the name(s) and job title(s) of all attendees\, along with the organization represented.\n\n\n\nPlease RSVP directly to Christy Stone at: cstone10@wctc.edu.
X-ALT-DESC;FMTTYPE=text/html:<strong><span style="background: yellow\;">TRAINING INFORMATIONAL PREVIEW/OVERVIEW SESSIONS: If you are in a leadership position with a Menomonee Falls-based organization\, we would like to formally invite you (or anyone others in leadership roles in your organization) to attend one of three upcoming <u>2-hour Training Informational Previews/Overview sessions</u></span></strong><span style="background: yellow\;">\, where:</span>\n\n<ul>\n	<li style="margin-bottom: 12pt\;">Our training program trainers will be present to describe their respective programs in 10-to-15 minute increments: you will be able to learn much more about the specific content of the programs that will be delivered.</li>\n	<li style="margin-bottom: 12pt\;">You will be able to make informed choices in being able to identify from your organization\, who might be best employees to attend the respective training sessions.</li>\n	<li style="margin-bottom: 12pt\;">There will be plenty of time for Q&amp\;A with the trainers as well.</li>\n</ul>\n<span style="font-size:16px\;">The 2-hour Informational Preview/Overview sessions are being offered at the following date &amp\; times:</span>\n\n<ol>\n	<li style="margin-bottom: 12pt\;"><span style="font-size:16px\;"><span style="color: rgb(255\, 0\, 0)\;"><strong>Thursday\, November 6th: 10 am &ndash\; Noon</strong></span></span></li>\n</ol>\n<span style="font-size:16px\;"> &nbsp\;&nbsp\;&nbsp\;<em><strong>&nbsp\;&#8203\;OR</strong></em></span>\n\n<ol>\n	<li style="margin-bottom: 12pt\;" value="2"><span style="font-size:16px\;"><span style="color: rgb(255\, 0\, 0)\;"><strong>Thursday November 6th: 2 pm - 4 pm</strong></span></span></li>\n</ol>\n<em><strong>LOCATION for BOTH Time Slots: Menomonee Falls Public Library\, W156 N8436 Pilgrim Road Menomonee Falls\, WI 53051</strong></em><br />\n<br />\n<br />\n<span style="color: rgb(255\, 0\, 0)\;">Attendance at these events is free of charge\, however\, we do need to please have your advance RSVP. Please RSVP your attendance\, providing the name(s) and job title(s) of all attendees\, along with the organization represented</span><strong><span style="color: rgb(255\, 0\, 0)\;">.</span><br />\n<br />\n<span style="font-size: 20px\;"><span style="background: yellow\;">Please RSVP directly to Christy Stone at: </span></span></strong><span style="font-size: 20px\;"><a href="mailto:cstone10@wctc.edu"><strong><span style="background: yellow\;">cstone10@wctc.edu</span></strong></a>.</span><br />\n<br />\n<br />\n&nbsp\;
LOCATION:Menomonee Falls Public Library W156 N8436 Pilgrim Road Menomonee Falls\, WI 53051
UID:e.596.397
SEQUENCE:3
DTSTAMP:20260420T023015Z
URL:http://business.fallschamber.com/events/details/continuous-improvement-initiative-info-meeting-11-6-2014-11-06-2014-397
END:VEVENT

END:VCALENDAR
