BEGIN:VCALENDAR
VERSION:2.0
PRODID:-//ChamberMaster//Event Calendar 2.0//EN
METHOD:PUBLISH
X-PUBLISHED-TTL:P3D
REFRESH-INTERVAL:P3D
CALSCALE:GREGORIAN
BEGIN:VEVENT
DTSTART:20141024T130000Z
DTEND:20141024T150000Z
X-MICROSOFT-CDO-ALLDAYEVENT:FALSE
SUMMARY:Continuous Improvement Initiative Info. Meeting 10/24/14 AM Session
DESCRIPTION:TRAINING INFORMATIONAL PREVIEW/OVERVIEW SESSIONS: If you are in a leadership position with a Menomonee Falls-based organization\, we would like to formally invite you (or anyone others in leadership roles in your organization) to attend one of three upcoming 2-hour Training Informational Previews/Overview sessions\, where:\n\n\n	Our training program trainers will be present to describe their respective programs in 10-to-15 minute increments: you will be able to learn much more about the specific content of the programs that will be delivered.\n	You will be able to make informed choices in being able to identify from your organization\, who might be best employees to attend the respective training sessions.\n	There will be plenty of time for Q&A with the trainers as well.\n\nThe 2-hour Informational Preview/Overview sessions are being offered at the following dates & times:\n\n\n	Friday\, October 17th: 8am   10am\n\nLOCATION: Menomonee Falls School District Office- (Board Room) W156 N8480 Pilgrim Road\n\n\n	Friday\, October 24th: 8am   10am\n\nLOCATION: Menomonee Falls Community Education and Recreation Center (Room 123) W152 N8645 Margaret Rd.\n\n\n	Friday\, October 24th: 2pm   4pm\n\nLOCATION: Menomonee Falls Community Education and Recreation Center (Room 123) W152 N8645 Margaret Rd.\n\n\n\nAttendance at these events is free of charge\, however\, we do need to please have your advance RSVP. Please RSVP your attendance\, providing the name(s) and job title(s) of all attendees\, along with the organization represented.\n\n\n\nPlease RSVP directly to Christy Stone at: cstone10@wctc.edu.
X-ALT-DESC;FMTTYPE=text/html:<strong><span style="background: yellow\;">TRAINING INFORMATIONAL PREVIEW/OVERVIEW SESSIONS: If you are in a leadership position with a Menomonee Falls-based organization\, we would like to formally invite you (or anyone others in leadership roles in your organization) to attend one of three upcoming <u>2-hour Training Informational Previews/Overview sessions</u></span></strong><span style="background: yellow\;">\, where:</span>\n\n<ul>\n	<li style="margin-bottom: 12pt\;">Our training program trainers will be present to describe their respective programs in 10-to-15 minute increments: you will be able to learn much more about the specific content of the programs that will be delivered.</li>\n	<li style="margin-bottom: 12pt\;">You will be able to make informed choices in being able to identify from your organization\, who might be best employees to attend the respective training sessions.</li>\n	<li style="margin-bottom: 12pt\;">There will be plenty of time for Q&amp\;A with the trainers as well.</li>\n</ul>\nThe 2-hour Informational Preview/Overview sessions are being offered at the following dates &amp\; times:\n\n<ol>\n	<li style="margin-bottom: 12pt\;"><span style="color: rgb(255\, 0\, 0)\;"><strong>Friday\, October 17<sup>th</sup>: 8am &ndash\; 10am</strong></span></li>\n</ol>\n<strong><em>LOCATION: Menomonee Falls School District Office- (Board Room) W156 N8480 Pilgrim Road</em></strong>\n\n<ol>\n	<li style="margin-bottom: 12pt\;" value="2"><span style="color: rgb(255\, 0\, 0)\;"><strong>Friday\, October 24<sup>th</sup>: 8am &ndash\; 10am</strong></span></li>\n</ol>\n<em><strong>LOCATION: Menomonee Falls Community Education and Recreation Center (Room 123) W152 N8645 Margaret Rd.</strong></em>\n\n<ol>\n	<li style="margin-bottom: 12pt\;" value="3"><span style="color: rgb(255\, 0\, 0)\;"><strong>Friday\, October 24<sup>th</sup>: 2pm &ndash\; 4pm</strong></span></li>\n</ol>\n<em><strong>LOCATION: Menomonee Falls Community Education and Recreation Center (Room 123) W152 N8645 Margaret Rd.</strong></em><br />\n<br />\n<span style="color: rgb(255\, 0\, 0)\;">Attendance at these events is free of charge\, however\, we do need to please have your advance RSVP. Please RSVP your attendance\, providing the name(s) and job title(s) of all attendees\, along with the organization represented</span><strong><span style="color: rgb(255\, 0\, 0)\;">.</span><br />\n<br />\n<span style="font-size: 20px\;"><span style="background: yellow\;">Please RSVP directly to Christy Stone at: </span></span></strong><span style="font-size: 20px\;"><a href="mailto:cstone10@wctc.edu"><strong><span style="background: yellow\;">cstone10@wctc.edu</span></strong></a>.</span><br />\n<br />\n<br />\n&nbsp\;
LOCATION:Menomonee Falls Community Education & Rec. Center (Room 123) W152 N8645 Margaret Rd. Menomonee Falls\, WI 53051
UID:e.596.390
SEQUENCE:3
DTSTAMP:20260420T055749Z
URL:http://business.fallschamber.com/events/details/continuous-improvement-initiative-info-meeting-10-24-14-am-session-10-24-2014-390
END:VEVENT

END:VCALENDAR
