BEGIN:VCALENDAR
VERSION:2.0
PRODID:-//ChamberMaster//Event Calendar 2.0//EN
METHOD:PUBLISH
X-PUBLISHED-TTL:P3D
REFRESH-INTERVAL:P3D
CALSCALE:GREGORIAN
BEGIN:VEVENT
DTSTART:20140405T140000Z
DTEND:20140405T200000Z
X-MICROSOFT-CDO-ALLDAYEVENT:FALSE
SUMMARY:Community League's 6th Annual Vendor & Rummage Fair
DESCRIPTION:Featuring over 75 party vendors and rummage tables\, plants from Shady Lane Nursery\, bake sale\, snack bar\, raffles throughout the day\, free chair massages.
X-ALT-DESC;FMTTYPE=text/html:Featuring over 75 party vendors and rummage tables\, plants from Shady Lane Nursery\, bake sale\, snack bar\, raffles throughout the day\, free chair massages.
LOCATION:Menomonee Falls High School W142N8101 Merrimac Drive Menomonee Falls\, WI
UID:e.596.320
SEQUENCE:3
DTSTAMP:20260422T133102Z
URL:http://business.fallschamber.com/events/details/community-league-s-6th-annual-vendor-rummage-fair-04-05-2014-320
END:VEVENT

END:VCALENDAR
