BEGIN:VCALENDAR
VERSION:2.0
PRODID:-//ChamberMaster//Event Calendar 2.0//EN
METHOD:PUBLISH
X-PUBLISHED-TTL:P3D
REFRESH-INTERVAL:P3D
CALSCALE:GREGORIAN
BEGIN:VEVENT
DTSTART:20131015T000000Z
DTEND:20131015T020000Z
X-MICROSOFT-CDO-ALLDAYEVENT:FALSE
SUMMARY:Community League of Menomonee Falls General Meeting
DESCRIPTION:Community League's general meeting will be an organizational meeting of A Community Affair: our major fundraiser of the year.
X-ALT-DESC;FMTTYPE=text/html:Community League&#39\;s general meeting will be an organizational meeting of A Community Affair: our major fundraiser of the year.
LOCATION:Menomonee Falls Community Center Room 102
UID:e.596.263
SEQUENCE:3
DTSTAMP:20260422T222125Z
URL:http://business.fallschamber.com/events/details/community-league-of-menomonee-falls-general-meeting-10-14-2013-263
END:VEVENT

END:VCALENDAR
