BEGIN:VCALENDAR
VERSION:2.0
PRODID:-//ChamberMaster//Event Calendar 2.0//EN
METHOD:PUBLISH
X-PUBLISHED-TTL:P3D
REFRESH-INTERVAL:P3D
CALSCALE:GREGORIAN
BEGIN:VEVENT
DTSTART:20130917T000000Z
DTEND:20130917T020000Z
X-MICROSOFT-CDO-ALLDAYEVENT:FALSE
SUMMARY:Community League General Meeting
DESCRIPTION:Community League meets the third Monday of every month (except October-it's the 14th) at the Community Center of Menomonee Falls in Room 102.  The program will be a mixer.  Light refreshments are provided.
X-ALT-DESC;FMTTYPE=text/html:Community League meets the third Monday of every month (except October-it&#39\;s the 14th) at the Community Center of Menomonee Falls in Room 102.&nbsp\; The program will be a mixer.&nbsp\; Light refreshments are provided.
LOCATION:Menomonee Falls Community Center - Room 102
UID:e.596.261
SEQUENCE:3
DTSTAMP:20260422T234310Z
URL:http://business.fallschamber.com/events/details/community-league-general-meeting-09-16-2013-261
END:VEVENT

END:VCALENDAR
