BEGIN:VCALENDAR
VERSION:2.0
PRODID:-//ChamberMaster//Event Calendar 2.0//EN
METHOD:PUBLISH
X-PUBLISHED-TTL:P3D
REFRESH-INTERVAL:P3D
CALSCALE:GREGORIAN
BEGIN:VEVENT
DTSTART:20130823T160000Z
DTEND:20130823T190000Z
X-MICROSOFT-CDO-ALLDAYEVENT:FALSE
SUMMARY:Community Cookout
DESCRIPTION:Community Cookout\n\n\n\nFree to the Public
X-ALT-DESC;FMTTYPE=text/html:Community Cookout<br />\n<br />\nFree to the Public
LOCATION:Town Bank At the corner of Appleton & Good Hope Road Woodlands Market Center Enter to win Packers and Badgers tickets
UID:e.596.266
SEQUENCE:3
DTSTAMP:20260423T023810Z
URL:http://business.fallschamber.com/events/details/community-cookout-08-23-2013-266
END:VEVENT

END:VCALENDAR
