BEGIN:VCALENDAR
VERSION:2.0
PRODID:-//ChamberMaster//Event Calendar 2.0//EN
METHOD:PUBLISH
X-PUBLISHED-TTL:P3D
REFRESH-INTERVAL:P3D
CALSCALE:GREGORIAN
BEGIN:VEVENT
DTSTART:20140728T223000Z
DTEND:20140728T233000Z
X-MICROSOFT-CDO-ALLDAYEVENT:FALSE
SUMMARY:Choosing Wisely-Physician and Patient Relationships
DESCRIPTION:Choosing Wisely-Physician and Patient Relationship\n\nPresented by Dr. Kyle Kircher\; Family Medicine\n\nBlue Stone Physician Services
X-ALT-DESC;FMTTYPE=text/html:Choosing Wisely-Physician and Patient Relationship<br />\nPresented by Dr. Kyle Kircher\; Family Medicine<br />\nBlue Stone Physician Services
LOCATION:Silverado Oak Village W128N6900 Northfield Drive Menomonee Falls\, WI 53051
UID:e.596.362
SEQUENCE:3
DTSTAMP:20260422T085121Z
URL:http://business.fallschamber.com/events/details/choosing-wisely-physician-and-patient-relationships-07-28-2014-362
END:VEVENT

END:VCALENDAR
