BEGIN:VCALENDAR
VERSION:2.0
PRODID:-//ChamberMaster//Event Calendar 2.0//EN
METHOD:PUBLISH
X-PUBLISHED-TTL:P3D
REFRESH-INTERVAL:P3D
CALSCALE:GREGORIAN
BEGIN:VEVENT
DTSTART:20130717T200000Z
DTEND:20130717T210000Z
X-MICROSOFT-CDO-ALLDAYEVENT:FALSE
SUMMARY:Chamber Website Training (Newly Added Session) 7/17
DESCRIPTION:Want to learn how to make the new Chamber website work for you and your business? Join us for this FREE training session at Herzing University on W1408917 Lilly Road in Menomonee Falls!\n\n\n\nChamberMaster Rep\, Ward Thompson will be teaching this session.
X-ALT-DESC;FMTTYPE=text/html:<span style="font-size:14px\;"><span style="color: rgb(0\, 0\, 205)\;"><span style="font-family: 'arial narrow'\, sans-serif\;">Want to learn how to make the new Chamber website work for you and your business? Join us for this FREE training session at Herzing University on W1408917 Lilly Road in Menomonee Falls!</span></span></span><br />\n<br />\n<span style="font-size:14px\;"><span style="color:#ff0000\;"><strong>ChamberMaster&nbsp\;Rep\, Ward Thompson will be teaching this session.</strong></span></span><br />\n<br />\n<br />\n
LOCATION:Herzing University (Online Campus) W1408917 Lilly Road Menomonee Falls\, WI 53051 Room # 103
UID:e.596.255
SEQUENCE:3
DTSTAMP:20260423T023837Z
URL:http://business.fallschamber.com/events/details/chamber-website-training-newly-added-session-7-17-07-17-2013-255
END:VEVENT

END:VCALENDAR
