BEGIN:VCALENDAR
VERSION:2.0
PRODID:-//ChamberMaster//Event Calendar 2.0//EN
METHOD:PUBLISH
X-PUBLISHED-TTL:P3D
REFRESH-INTERVAL:P3D
CALSCALE:GREGORIAN
BEGIN:VEVENT
DTSTART:20140306T230000Z
DTEND:20140307T013000Z
X-MICROSOFT-CDO-ALLDAYEVENT:FALSE
SUMMARY:Business After 5 - WAC
DESCRIPTION:March BA5 - Hosted by:\n\n\n\nWISCONSIN ATHLETIC CLUB\n\n\n\nFood - Beverages - Raffles - Networking - Tours!
X-ALT-DESC;FMTTYPE=text/html:<span style="font-size: 16px\;"><strong><span style="color: rgb(255\, 0\, 0)\;">March BA5 - Hosted by:<br />\n<br />\n<span style="font-size: 22px\;">WISCONSIN ATHLETIC CLUB<br />\n<br />\nFood - Beverages - Raffles - Networking - Tours!</span></span></strong></span><br />\n&nbsp\;
LOCATION:WISCONSIN ATHLETIC CLUB N91W15700 Falls Parkway Menomonee Falls\, WI
UID:e.596.308
SEQUENCE:3
DTSTAMP:20260422T144209Z
URL:http://business.fallschamber.com/events/details/business-after-5-wac-03-06-2014-308
END:VEVENT

END:VCALENDAR
